BEGIN:VCALENDAR
VERSION:2.0
PRODID:-// - ECPv6.15.20//NONSGML v1.0//EN
CALSCALE:GREGORIAN
METHOD:PUBLISH
X-ORIGINAL-URL:https://goofyfoottaproom.com
X-WR-CALDESC:Events for 
REFRESH-INTERVAL;VALUE=DURATION:PT1H
X-Robots-Tag:noindex
X-PUBLISHED-TTL:PT1H
BEGIN:VTIMEZONE
TZID:UTC
BEGIN:STANDARD
TZOFFSETFROM:+0000
TZOFFSETTO:+0000
TZNAME:UTC
DTSTART:20250101T000000
END:STANDARD
END:VTIMEZONE
BEGIN:VEVENT
DTSTART;TZID=UTC:20260530T190000
DTEND;TZID=UTC:20260530T210000
DTSTAMP:20260425T131952
CREATED:20260116T183643Z
LAST-MODIFIED:20260116T183643Z
UID:1863-1780167600-1780174800@goofyfoottaproom.com
SUMMARY:Live Music with Benji and Pete from Turpentine Shine
DESCRIPTION:Our friends Benji and Pete will be playing some tunes for us! \nTurpentine Shine is a string band based in the Piedmont of NC with an inspiring collection of thoughtful original songs ranging in style from Country and Bluegrass to the Singer-Songwriter appeal of artists like John Prine and Gordon Lightfoot. Throw into the mix some jammy bluegrass instrumental chops coupled with competent\, earnest drums and vocals and you will begin to have a grasp of what Turpentine Shine sounds like.
URL:https://goofyfoottaproom.com/event/live-music-with-benji-and-pete-from-turpentine-shine-2/
LOCATION:Goofy Foot Taproom\, 2762 NC 68\, High Point\, NC\, 27265
ATTACH;FMTTYPE=image/jpeg:https://goofyfoottaproom.com/wp-content/uploads/2024/12/Benji.jpg
END:VEVENT
END:VCALENDAR