BEGIN:VCALENDAR
VERSION:2.0
PRODID:-// - ECPv6.15.20//NONSGML v1.0//EN
CALSCALE:GREGORIAN
METHOD:PUBLISH
X-ORIGINAL-URL:https://goofyfoottaproom.com
X-WR-CALDESC:Events for 
REFRESH-INTERVAL;VALUE=DURATION:PT1H
X-Robots-Tag:noindex
X-PUBLISHED-TTL:PT1H
BEGIN:VTIMEZONE
TZID:UTC
BEGIN:STANDARD
TZOFFSETFROM:+0000
TZOFFSETTO:+0000
TZNAME:UTC
DTSTART:20190101T000000
END:STANDARD
END:VTIMEZONE
BEGIN:VEVENT
DTSTART;TZID=UTC:20210717T190000
DTEND;TZID=UTC:20210717T210000
DTSTAMP:20260426T023140
CREATED:20210715T141639Z
LAST-MODIFIED:20210715T141639Z
UID:650-1626548400-1626555600@goofyfoottaproom.com
SUMMARY:Music w/ Stewart Coley
DESCRIPTION:
URL:https://goofyfoottaproom.com/event/music-w-stewart-coley-2/
ATTACH;FMTTYPE=image/png:https://goofyfoottaproom.com/wp-content/uploads/2021/07/StewartColey.png
END:VEVENT
BEGIN:VEVENT
DTSTART;TZID=UTC:20200321T200000
DTEND;TZID=UTC:20200321T220000
DTSTAMP:20260426T023140
CREATED:20200218T135043Z
LAST-MODIFIED:20200218T135043Z
UID:543-1584820800-1584828000@goofyfoottaproom.com
SUMMARY:Music w/ The Williamsons
DESCRIPTION:
URL:https://goofyfoottaproom.com/event/music-w-the-williamsons/
ATTACH;FMTTYPE=image/png:https://goofyfoottaproom.com/wp-content/uploads/2020/02/williamsons.png
END:VEVENT
BEGIN:VEVENT
DTSTART;TZID=UTC:20200314T200000
DTEND;TZID=UTC:20200314T220000
DTSTAMP:20260426T023140
CREATED:20200218T134942Z
LAST-MODIFIED:20200218T134942Z
UID:540-1584216000-1584223200@goofyfoottaproom.com
SUMMARY:Music w/ Stewart Coley
DESCRIPTION:
URL:https://goofyfoottaproom.com/event/music-w-stewart-coley/
ATTACH;FMTTYPE=image/png:https://goofyfoottaproom.com/wp-content/uploads/2020/02/stewart.png
END:VEVENT
BEGIN:VEVENT
DTSTART;TZID=UTC:20200307T200000
DTEND;TZID=UTC:20200307T220000
DTSTAMP:20260426T023140
CREATED:20200218T134827Z
LAST-MODIFIED:20200218T134827Z
UID:537-1583611200-1583618400@goofyfoottaproom.com
SUMMARY:Music w/ Parker Ford
DESCRIPTION:
URL:https://goofyfoottaproom.com/event/music-w-parker-ford/
ATTACH;FMTTYPE=image/png:https://goofyfoottaproom.com/wp-content/uploads/2020/02/parker.png
END:VEVENT
BEGIN:VEVENT
DTSTART;TZID=UTC:20200222T200000
DTEND;TZID=UTC:20200222T220000
DTSTAMP:20260426T023140
CREATED:20200218T134659Z
LAST-MODIFIED:20200218T135335Z
UID:534-1582401600-1582408800@goofyfoottaproom.com
SUMMARY:Music w/ Banjo Earth
DESCRIPTION:http://www.banjoearth.com
URL:https://goofyfoottaproom.com/event/music-w-banjo-earth/
ATTACH;FMTTYPE=image/png:https://goofyfoottaproom.com/wp-content/uploads/2020/02/banjoearth.png
END:VEVENT
BEGIN:VEVENT
DTSTART;TZID=UTC:20200215T200000
DTEND;TZID=UTC:20200215T220000
DTSTAMP:20260426T023140
CREATED:20200203T233350Z
LAST-MODIFIED:20200204T032706Z
UID:498-1581796800-1581804000@goofyfoottaproom.com
SUMMARY:Music w/ Susanna Macfarlane
DESCRIPTION:
URL:https://goofyfoottaproom.com/event/music-w-susanna-macfarlane/
ATTACH;FMTTYPE=image/png:https://goofyfoottaproom.com/wp-content/uploads/2020/02/suzanna.png
END:VEVENT
BEGIN:VEVENT
DTSTART;TZID=UTC:20200208T200000
DTEND;TZID=UTC:20200208T220000
DTSTAMP:20260426T023140
CREATED:20200203T231550Z
LAST-MODIFIED:20200204T172357Z
UID:491-1581192000-1581199200@goofyfoottaproom.com
SUMMARY:Music w/ Tyler Long
DESCRIPTION:Tyler rocks. \n 
URL:https://goofyfoottaproom.com/event/music-w-tyler-long/
LOCATION:NC
ATTACH;FMTTYPE=image/png:https://goofyfoottaproom.com/wp-content/uploads/2020/02/tyler.png
END:VEVENT
END:VCALENDAR