BEGIN:VCALENDAR
VERSION:2.0
PRODID:-// - ECPv6.15.20//NONSGML v1.0//EN
CALSCALE:GREGORIAN
METHOD:PUBLISH
X-ORIGINAL-URL:https://goofyfoottaproom.com
X-WR-CALDESC:Events for 
REFRESH-INTERVAL;VALUE=DURATION:PT1H
X-Robots-Tag:noindex
X-PUBLISHED-TTL:PT1H
BEGIN:VTIMEZONE
TZID:UTC
BEGIN:STANDARD
TZOFFSETFROM:+0000
TZOFFSETTO:+0000
TZNAME:UTC
DTSTART:20190101T000000
END:STANDARD
END:VTIMEZONE
BEGIN:VEVENT
DTSTART;TZID=UTC:20250104T190000
DTEND;TZID=UTC:20250104T210000
DTSTAMP:20260425T161720
CREATED:20241229T170938Z
LAST-MODIFIED:20241229T173234Z
UID:1655-1736017200-1736024400@goofyfoottaproom.com
SUMMARY:Live Music with Anna Mertson
DESCRIPTION:Meshing musical roots is the name of the game for Anna Mertson. Blending together the notes\, rhythms and topics of her upbringing is what creates her different kind of style. “What is your genre?” is a difficult question to answer. It’s a melodic blend of country\, folk\, blues and feeling with lyrics surrounding a myriad of subjects from folk traditions to compelling thoughts.
URL:https://goofyfoottaproom.com/event/live-music-w-anna-mertson/
LOCATION:Goofy Foot Taproom\, 2762 NC 68\, High Point\, NC\, 27265
ATTACH;FMTTYPE=image/png:https://goofyfoottaproom.com/wp-content/uploads/2024/12/Anna2.png
END:VEVENT
BEGIN:VEVENT
DTSTART;TZID=UTC:20231007T140000
DTEND;TZID=UTC:20231007T210000
DTSTAMP:20260425T161720
CREATED:20230925T133048Z
LAST-MODIFIED:20230925T133048Z
UID:722-1696687200-1696712400@goofyfoottaproom.com
SUMMARY:Goofy Foot Fall Festival
DESCRIPTION:It’s that time of year again!!!!\nJoin us SATURDAY October 7th from 2pm-9pm for our Fall Festival to celebrate the release of our Pumpkin Ale and our brand new Bourbon Barrel Aged Stout!!\nCome hang out in the back parking lot for cold beer\, free hot dogs and hamburgers\, live music with Michael Chaney & Into the Fog\, and vendor tents.\nFeel free to bring a lawn chair to enjoy outside drinks and live music.\nCheers!!!
URL:https://goofyfoottaproom.com/event/goofy-foot-fall-festival/
LOCATION:Goofy Foot Taproom\, 2762 NC 68\, High Point\, NC\, 27265
ATTACH;FMTTYPE=image/png:https://goofyfoottaproom.com/wp-content/uploads/2023/09/FallFestivalFlyer.png
END:VEVENT
BEGIN:VEVENT
DTSTART;TZID=UTC:20221126T190000
DTEND;TZID=UTC:20221126T210000
DTSTAMP:20260425T161720
CREATED:20220803T151216Z
LAST-MODIFIED:20220803T151216Z
UID:709-1669489200-1669496400@goofyfoottaproom.com
SUMMARY:Music w/ Michael Chaney
DESCRIPTION:
URL:https://goofyfoottaproom.com/event/music-w-michael-chaney-3/
LOCATION:NC
ATTACH;FMTTYPE=image/jpeg:https://goofyfoottaproom.com/wp-content/uploads/2022/07/MichaelChaney.jpg
END:VEVENT
BEGIN:VEVENT
DTSTART;TZID=UTC:20221119T190000
DTEND;TZID=UTC:20221119T210000
DTSTAMP:20260425T161720
CREATED:20220803T151133Z
LAST-MODIFIED:20220803T151133Z
UID:706-1668884400-1668891600@goofyfoottaproom.com
SUMMARY:Music w/ Casey Noel
DESCRIPTION:
URL:https://goofyfoottaproom.com/event/music-w-casey-noel/
LOCATION:NC
ATTACH;FMTTYPE=image/jpeg:https://goofyfoottaproom.com/wp-content/uploads/2022/08/caseynoel.jpg
END:VEVENT
BEGIN:VEVENT
DTSTART;TZID=UTC:20221105T190000
DTEND;TZID=UTC:20221105T210000
DTSTAMP:20260425T161720
CREATED:20220803T150907Z
LAST-MODIFIED:20220803T150907Z
UID:704-1667674800-1667682000@goofyfoottaproom.com
SUMMARY:Music w/ Tyler Millard Duo
DESCRIPTION:
URL:https://goofyfoottaproom.com/event/music-w-tyler-millard-duo/
LOCATION:NC
ATTACH;FMTTYPE=image/jpeg:https://goofyfoottaproom.com/wp-content/uploads/2022/08/tyler_millard_duo.max-700x500-1.jpg
END:VEVENT
BEGIN:VEVENT
DTSTART;TZID=UTC:20221029T190000
DTEND;TZID=UTC:20221029T210000
DTSTAMP:20260425T161720
CREATED:20220803T150818Z
LAST-MODIFIED:20220803T150818Z
UID:702-1667070000-1667077200@goofyfoottaproom.com
SUMMARY:Music w/ Susanna Macfarlane
DESCRIPTION:
URL:https://goofyfoottaproom.com/event/music-w-susanna-macfarlane-2/
LOCATION:NC
ATTACH;FMTTYPE=image/jpeg:https://goofyfoottaproom.com/wp-content/uploads/2022/07/Photo-Jun-14-12-03-02-AM.jpg
END:VEVENT
BEGIN:VEVENT
DTSTART;TZID=UTC:20221022T190000
DTEND;TZID=UTC:20221022T210000
DTSTAMP:20260425T161720
CREATED:20220803T150736Z
LAST-MODIFIED:20220803T150736Z
UID:700-1666465200-1666472400@goofyfoottaproom.com
SUMMARY:Music w/ Emma Lee
DESCRIPTION:
URL:https://goofyfoottaproom.com/event/music-w-emma-lee-2/
LOCATION:NC
ATTACH;FMTTYPE=image/png:https://goofyfoottaproom.com/wp-content/uploads/2022/08/emmalee.png
END:VEVENT
BEGIN:VEVENT
DTSTART;TZID=UTC:20221015T190000
DTEND;TZID=UTC:20221015T210000
DTSTAMP:20260425T161720
CREATED:20220803T150703Z
LAST-MODIFIED:20220803T150703Z
UID:698-1665860400-1665867600@goofyfoottaproom.com
SUMMARY:Music w/ Mike Everett
DESCRIPTION:
URL:https://goofyfoottaproom.com/event/music-w-mike-everett-3/
LOCATION:NC
ATTACH;FMTTYPE=image/jpeg:https://goofyfoottaproom.com/wp-content/uploads/2022/07/Photo-Jun-28-1-52-45-PM.jpg
END:VEVENT
BEGIN:VEVENT
DTSTART;TZID=UTC:20220924T190000
DTEND;TZID=UTC:20220924T210000
DTSTAMP:20260425T161720
CREATED:20220803T150623Z
LAST-MODIFIED:20220803T150623Z
UID:696-1664046000-1664053200@goofyfoottaproom.com
SUMMARY:Music w/ Michael Chaney
DESCRIPTION:
URL:https://goofyfoottaproom.com/event/music-w-michael-chaney-2/
LOCATION:NC
ATTACH;FMTTYPE=image/jpeg:https://goofyfoottaproom.com/wp-content/uploads/2022/07/MichaelChaney.jpg
END:VEVENT
BEGIN:VEVENT
DTSTART;TZID=UTC:20220917T190000
DTEND;TZID=UTC:20220917T210000
DTSTAMP:20260425T161720
CREATED:20220803T150538Z
LAST-MODIFIED:20220803T150538Z
UID:693-1663441200-1663448400@goofyfoottaproom.com
SUMMARY:Music w/ The Willamsons
DESCRIPTION:
URL:https://goofyfoottaproom.com/event/music-w-the-willamsons/
LOCATION:NC
ATTACH;FMTTYPE=image/jpeg:https://goofyfoottaproom.com/wp-content/uploads/2022/08/thewilliamsons.jpg
END:VEVENT
BEGIN:VEVENT
DTSTART;TZID=UTC:20220910T190000
DTEND;TZID=UTC:20220910T210000
DTSTAMP:20260425T161720
CREATED:20220803T150234Z
LAST-MODIFIED:20220803T150234Z
UID:689-1662836400-1662843600@goofyfoottaproom.com
SUMMARY:Music w/ Emma Lee
DESCRIPTION:
URL:https://goofyfoottaproom.com/event/music-w-emma-lee/
LOCATION:NC
ATTACH;FMTTYPE=image/png:https://goofyfoottaproom.com/wp-content/uploads/2022/08/emmalee.png
END:VEVENT
BEGIN:VEVENT
DTSTART;TZID=UTC:20220903T190000
DTEND;TZID=UTC:20220903T210000
DTSTAMP:20260425T161720
CREATED:20220804T143311Z
LAST-MODIFIED:20220804T143311Z
UID:711-1662231600-1662238800@goofyfoottaproom.com
SUMMARY:Music w/ Jessie Dunks Duo
DESCRIPTION:
URL:https://goofyfoottaproom.com/event/music-w-jessie-dunks-duo/
LOCATION:NC
ATTACH;FMTTYPE=image/jpeg:https://goofyfoottaproom.com/wp-content/uploads/2022/08/IMG_7876.jpg
END:VEVENT
BEGIN:VEVENT
DTSTART;TZID=UTC:20220827T190000
DTEND;TZID=UTC:20220827T210000
DTSTAMP:20260425T161720
CREATED:20220803T145326Z
LAST-MODIFIED:20220803T145326Z
UID:686-1661626800-1661634000@goofyfoottaproom.com
SUMMARY:Music w/ Tyler Millard
DESCRIPTION:
URL:https://goofyfoottaproom.com/event/music-w-tyler-millard/
LOCATION:NC
ATTACH;FMTTYPE=image/jpeg:https://goofyfoottaproom.com/wp-content/uploads/2022/08/tyler_millard_duo.max-700x500-1.jpg
END:VEVENT
BEGIN:VEVENT
DTSTART;TZID=UTC:20220820T190000
DTEND;TZID=UTC:20220820T210000
DTSTAMP:20260425T161720
CREATED:20220706T160114Z
LAST-MODIFIED:20220706T160114Z
UID:680-1661022000-1661029200@goofyfoottaproom.com
SUMMARY:Live Music w/ Susanna Macfarlane
DESCRIPTION:
URL:https://goofyfoottaproom.com/event/live-music-w-susanna-macfarlane/
LOCATION:NC
ATTACH;FMTTYPE=image/jpeg:https://goofyfoottaproom.com/wp-content/uploads/2022/07/Photo-Jun-14-12-03-02-AM.jpg
END:VEVENT
BEGIN:VEVENT
DTSTART;TZID=UTC:20220806T190000
DTEND;TZID=UTC:20220806T210000
DTSTAMP:20260425T161720
CREATED:20220706T155736Z
LAST-MODIFIED:20220706T155736Z
UID:677-1659812400-1659819600@goofyfoottaproom.com
SUMMARY:Music w/ Thomas Rucker
DESCRIPTION:
URL:https://goofyfoottaproom.com/event/music-w-thomas-rucker/
LOCATION:NC
ATTACH;FMTTYPE=image/jpeg:https://goofyfoottaproom.com/wp-content/uploads/2022/07/Photo-Jan-31-12-35-03-PM.jpg
END:VEVENT
BEGIN:VEVENT
DTSTART;TZID=UTC:20220730T190000
DTEND;TZID=UTC:20220730T210000
DTSTAMP:20260425T161720
CREATED:20220706T153129Z
LAST-MODIFIED:20220706T153129Z
UID:674-1659207600-1659214800@goofyfoottaproom.com
SUMMARY:Music w/ Michael Chaney
DESCRIPTION:
URL:https://goofyfoottaproom.com/event/music-w-michael-chaney/
LOCATION:NC
ATTACH;FMTTYPE=image/jpeg:https://goofyfoottaproom.com/wp-content/uploads/2022/07/MichaelChaney.jpg
END:VEVENT
BEGIN:VEVENT
DTSTART;TZID=UTC:20220723T190000
DTEND;TZID=UTC:20220723T210000
DTSTAMP:20260425T161720
CREATED:20220706T153046Z
LAST-MODIFIED:20220706T153046Z
UID:672-1658602800-1658610000@goofyfoottaproom.com
SUMMARY:Music w/ Stewart Coley
DESCRIPTION:
URL:https://goofyfoottaproom.com/event/music-w-stewart-coley-3/
LOCATION:NC
ATTACH;FMTTYPE=image/jpeg:https://goofyfoottaproom.com/wp-content/uploads/2022/07/Photo-Oct-18-9-22-10-PM-1.jpg
END:VEVENT
BEGIN:VEVENT
DTSTART;TZID=UTC:20220716T190000
DTEND;TZID=UTC:20220716T210000
DTSTAMP:20260425T161720
CREATED:20220706T153004Z
LAST-MODIFIED:20220706T153004Z
UID:670-1657998000-1658005200@goofyfoottaproom.com
SUMMARY:Music w/ Mike Everett
DESCRIPTION:
URL:https://goofyfoottaproom.com/event/music-w-mike-everett-2/
LOCATION:NC
ATTACH;FMTTYPE=image/jpeg:https://goofyfoottaproom.com/wp-content/uploads/2022/07/Photo-Jun-28-1-52-45-PM.jpg
END:VEVENT
BEGIN:VEVENT
DTSTART;TZID=UTC:20220709T190000
DTEND;TZID=UTC:20220709T210000
DTSTAMP:20260425T161720
CREATED:20220706T152829Z
LAST-MODIFIED:20220706T152829Z
UID:664-1657393200-1657400400@goofyfoottaproom.com
SUMMARY:Music w/ Matt Walsh
DESCRIPTION:
URL:https://goofyfoottaproom.com/event/music-w-matt-walsh/
LOCATION:NC
ATTACH;FMTTYPE=image/jpeg:https://goofyfoottaproom.com/wp-content/uploads/2022/07/Photo-Jul-06-10-50-13-AM.jpg
END:VEVENT
BEGIN:VEVENT
DTSTART;TZID=UTC:20210731T190000
DTEND;TZID=UTC:20210731T210000
DTSTAMP:20260425T161720
CREATED:20210715T142139Z
LAST-MODIFIED:20210715T142139Z
UID:659-1627758000-1627765200@goofyfoottaproom.com
SUMMARY:Musis w/ Jared Payne
DESCRIPTION:
URL:https://goofyfoottaproom.com/event/musis-w-jared-payne/
LOCATION:NC
ATTACH;FMTTYPE=image/png:https://goofyfoottaproom.com/wp-content/uploads/2021/07/JaredPayne.png
END:VEVENT
BEGIN:VEVENT
DTSTART;TZID=UTC:20210724T190000
DTEND;TZID=UTC:20210724T210000
DTSTAMP:20260425T161720
CREATED:20210715T141957Z
LAST-MODIFIED:20210715T141957Z
UID:657-1627153200-1627160400@goofyfoottaproom.com
SUMMARY:Music w/ Mike Everett
DESCRIPTION:
URL:https://goofyfoottaproom.com/event/music-w-mike-everett/
LOCATION:NC
ATTACH;FMTTYPE=image/png:https://goofyfoottaproom.com/wp-content/uploads/2021/07/MikeEverett.png
END:VEVENT
BEGIN:VEVENT
DTSTART;TZID=UTC:20210720T173000
DTEND;TZID=UTC:20210720T190000
DTSTAMP:20260425T161720
CREATED:20210715T141855Z
LAST-MODIFIED:20210715T142451Z
UID:655-1626802200-1626807600@goofyfoottaproom.com
SUMMARY:Biscuits Brisket & Beer Tasting
DESCRIPTION:Free sampling of brisket from our friends at Biscuit Brisket Beer!!
URL:https://goofyfoottaproom.com/event/biscuits-brisket-beer-tasting/
LOCATION:NC
ATTACH;FMTTYPE=image/png:https://goofyfoottaproom.com/wp-content/uploads/2021/07/typorama-2.png
END:VEVENT
BEGIN:VEVENT
DTSTART;TZID=UTC:20210717T190000
DTEND;TZID=UTC:20210717T210000
DTSTAMP:20260425T161720
CREATED:20210715T141639Z
LAST-MODIFIED:20210715T141639Z
UID:650-1626548400-1626555600@goofyfoottaproom.com
SUMMARY:Music w/ Stewart Coley
DESCRIPTION:
URL:https://goofyfoottaproom.com/event/music-w-stewart-coley-2/
LOCATION:NC
ATTACH;FMTTYPE=image/png:https://goofyfoottaproom.com/wp-content/uploads/2021/07/StewartColey.png
END:VEVENT
BEGIN:VEVENT
DTSTART;TZID=UTC:20200321T200000
DTEND;TZID=UTC:20200321T220000
DTSTAMP:20260425T161720
CREATED:20200218T135043Z
LAST-MODIFIED:20200218T135043Z
UID:543-1584820800-1584828000@goofyfoottaproom.com
SUMMARY:Music w/ The Williamsons
DESCRIPTION:
URL:https://goofyfoottaproom.com/event/music-w-the-williamsons/
LOCATION:NC
ATTACH;FMTTYPE=image/png:https://goofyfoottaproom.com/wp-content/uploads/2020/02/williamsons.png
END:VEVENT
BEGIN:VEVENT
DTSTART;TZID=UTC:20200314T200000
DTEND;TZID=UTC:20200314T220000
DTSTAMP:20260425T161720
CREATED:20200218T134942Z
LAST-MODIFIED:20200218T134942Z
UID:540-1584216000-1584223200@goofyfoottaproom.com
SUMMARY:Music w/ Stewart Coley
DESCRIPTION:
URL:https://goofyfoottaproom.com/event/music-w-stewart-coley/
LOCATION:NC
ATTACH;FMTTYPE=image/png:https://goofyfoottaproom.com/wp-content/uploads/2020/02/stewart.png
END:VEVENT
BEGIN:VEVENT
DTSTART;TZID=UTC:20200307T200000
DTEND;TZID=UTC:20200307T220000
DTSTAMP:20260425T161720
CREATED:20200218T134827Z
LAST-MODIFIED:20200218T134827Z
UID:537-1583611200-1583618400@goofyfoottaproom.com
SUMMARY:Music w/ Parker Ford
DESCRIPTION:
URL:https://goofyfoottaproom.com/event/music-w-parker-ford/
LOCATION:NC
ATTACH;FMTTYPE=image/png:https://goofyfoottaproom.com/wp-content/uploads/2020/02/parker.png
END:VEVENT
BEGIN:VEVENT
DTSTART;TZID=UTC:20200222T200000
DTEND;TZID=UTC:20200222T220000
DTSTAMP:20260425T161720
CREATED:20200218T134659Z
LAST-MODIFIED:20200218T135335Z
UID:534-1582401600-1582408800@goofyfoottaproom.com
SUMMARY:Music w/ Banjo Earth
DESCRIPTION:http://www.banjoearth.com
URL:https://goofyfoottaproom.com/event/music-w-banjo-earth/
LOCATION:NC
ATTACH;FMTTYPE=image/png:https://goofyfoottaproom.com/wp-content/uploads/2020/02/banjoearth.png
END:VEVENT
BEGIN:VEVENT
DTSTART;TZID=UTC:20200215T200000
DTEND;TZID=UTC:20200215T220000
DTSTAMP:20260425T161720
CREATED:20200203T233350Z
LAST-MODIFIED:20200204T032706Z
UID:498-1581796800-1581804000@goofyfoottaproom.com
SUMMARY:Music w/ Susanna Macfarlane
DESCRIPTION:
URL:https://goofyfoottaproom.com/event/music-w-susanna-macfarlane/
LOCATION:NC
ATTACH;FMTTYPE=image/png:https://goofyfoottaproom.com/wp-content/uploads/2020/02/suzanna.png
END:VEVENT
BEGIN:VEVENT
DTSTART;TZID=UTC:20200208T200000
DTEND;TZID=UTC:20200208T220000
DTSTAMP:20260425T161720
CREATED:20200203T231550Z
LAST-MODIFIED:20200204T172357Z
UID:491-1581192000-1581199200@goofyfoottaproom.com
SUMMARY:Music w/ Tyler Long
DESCRIPTION:Tyler rocks. \n 
URL:https://goofyfoottaproom.com/event/music-w-tyler-long/
LOCATION:NC
ATTACH;FMTTYPE=image/png:https://goofyfoottaproom.com/wp-content/uploads/2020/02/tyler.png
END:VEVENT
END:VCALENDAR