BEGIN:VCALENDAR
VERSION:2.0
PRODID:-// - ECPv6.15.20//NONSGML v1.0//EN
CALSCALE:GREGORIAN
METHOD:PUBLISH
X-ORIGINAL-URL:https://goofyfoottaproom.com
X-WR-CALDESC:Events for 
REFRESH-INTERVAL;VALUE=DURATION:PT1H
X-Robots-Tag:noindex
X-PUBLISHED-TTL:PT1H
BEGIN:VTIMEZONE
TZID:UTC
BEGIN:STANDARD
TZOFFSETFROM:+0000
TZOFFSETTO:+0000
TZNAME:UTC
DTSTART:20250101T000000
END:STANDARD
END:VTIMEZONE
BEGIN:VEVENT
DTSTART;TZID=UTC:20260620T190000
DTEND;TZID=UTC:20260620T210000
DTSTAMP:20260425T161852
CREATED:20260116T173459Z
LAST-MODIFIED:20260116T173459Z
UID:1825-1781982000-1781989200@goofyfoottaproom.com
SUMMARY:Live Music with Anna Mertson
DESCRIPTION:Meshing musical roots is the name of the game for Anna Mertson. Blending together the notes\, rhythms and topics of her upbringing is what creates her different kind of style. “What is your genre?” is a difficult question to answer. It’s a melodic blend of country\, folk\, blues and feeling with lyrics surrounding a myriad of subjects from folk traditions to compelling thoughts.
URL:https://goofyfoottaproom.com/event/live-music-with-anna-mertson-4/
LOCATION:Goofy Foot Taproom\, 2762 NC 68\, High Point\, NC\, 27265
ATTACH;FMTTYPE=image/png:https://goofyfoottaproom.com/wp-content/uploads/2024/12/Anna2.png
END:VEVENT
BEGIN:VEVENT
DTSTART;TZID=UTC:20260718T190000
DTEND;TZID=UTC:20260718T210000
DTSTAMP:20260425T161852
CREATED:20260116T183751Z
LAST-MODIFIED:20260116T183751Z
UID:1865-1784401200-1784408400@goofyfoottaproom.com
SUMMARY:Live Music with Benji and Pete from Turpentine Shine
DESCRIPTION:Our friends Benji and Pete will be playing some tunes for us! \nTurpentine Shine is a string band based in the Piedmont of NC with an inspiring collection of thoughtful original songs ranging in style from Country and Bluegrass to the Singer-Songwriter appeal of artists like John Prine and Gordon Lightfoot. Throw into the mix some jammy bluegrass instrumental chops coupled with competent\, earnest drums and vocals and you will begin to have a grasp of what Turpentine Shine sounds like.
URL:https://goofyfoottaproom.com/event/live-music-with-benji-and-pete-from-turpentine-shine-3/
LOCATION:Goofy Foot Taproom\, 2762 NC 68\, High Point\, NC\, 27265
ATTACH;FMTTYPE=image/jpeg:https://goofyfoottaproom.com/wp-content/uploads/2024/12/Benji.jpg
END:VEVENT
BEGIN:VEVENT
DTSTART;TZID=UTC:20260725T190000
DTEND;TZID=UTC:20260725T210000
DTSTAMP:20260425T161852
CREATED:20260116T173553Z
LAST-MODIFIED:20260116T173553Z
UID:1827-1785006000-1785013200@goofyfoottaproom.com
SUMMARY:Live Music with Anna Mertson
DESCRIPTION:Meshing musical roots is the name of the game for Anna Mertson. Blending together the notes\, rhythms and topics of her upbringing is what creates her different kind of style. “What is your genre?” is a difficult question to answer. It’s a melodic blend of country\, folk\, blues and feeling with lyrics surrounding a myriad of subjects from folk traditions to compelling thoughts.
URL:https://goofyfoottaproom.com/event/live-music-with-anna-mertson-5/
LOCATION:Goofy Foot Taproom\, 2762 NC 68\, High Point\, NC\, 27265
ATTACH;FMTTYPE=image/png:https://goofyfoottaproom.com/wp-content/uploads/2024/12/Anna2.png
END:VEVENT
BEGIN:VEVENT
DTSTART;TZID=UTC:20260822T190000
DTEND;TZID=UTC:20260822T210000
DTSTAMP:20260425T161852
CREATED:20260116T182532Z
LAST-MODIFIED:20260116T182532Z
UID:1857-1787425200-1787432400@goofyfoottaproom.com
SUMMARY:Live Music with James Vincent Carroll
DESCRIPTION:One Man Acoustic Band playing Classic Rock and more!
URL:https://goofyfoottaproom.com/event/live-music-with-james-vincent-carroll-6/
LOCATION:Goofy Foot Taproom\, 2762 NC 68\, High Point\, NC\, 27265
ATTACH;FMTTYPE=image/webp:https://goofyfoottaproom.com/wp-content/uploads/2026/01/jamesvincentcarroll.webp
END:VEVENT
BEGIN:VEVENT
DTSTART;TZID=UTC:20260912T190000
DTEND;TZID=UTC:20260912T210000
DTSTAMP:20260425T161852
CREATED:20260116T181852Z
LAST-MODIFIED:20260116T181852Z
UID:1846-1789239600-1789246800@goofyfoottaproom.com
SUMMARY:Live Music with Beth Turner
DESCRIPTION:Musician\, traveling soul .
URL:https://goofyfoottaproom.com/event/live-music-with-beth-turner-3/
LOCATION:Goofy Foot Taproom\, 2762 NC 68\, High Point\, NC\, 27265
ATTACH;FMTTYPE=image/jpeg:https://goofyfoottaproom.com/wp-content/uploads/2026/01/bethturner.jpg
END:VEVENT
BEGIN:VEVENT
DTSTART;TZID=UTC:20260926T190000
DTEND;TZID=UTC:20260926T210000
DTSTAMP:20260425T161852
CREATED:20260116T173653Z
LAST-MODIFIED:20260116T173653Z
UID:1829-1790449200-1790456400@goofyfoottaproom.com
SUMMARY:Live Music with Anna Mertson
DESCRIPTION:Meshing musical roots is the name of the game for Anna Mertson. Blending together the notes\, rhythms and topics of her upbringing is what creates her different kind of style. “What is your genre?” is a difficult question to answer. It’s a melodic blend of country\, folk\, blues and feeling with lyrics surrounding a myriad of subjects from folk traditions to compelling thoughts.
URL:https://goofyfoottaproom.com/event/live-music-with-anna-mertson-6/
LOCATION:Goofy Foot Taproom\, 2762 NC 68\, High Point\, NC\, 27265
ATTACH;FMTTYPE=image/png:https://goofyfoottaproom.com/wp-content/uploads/2024/12/Anna2.png
END:VEVENT
BEGIN:VEVENT
DTSTART;TZID=UTC:20261107T190000
DTEND;TZID=UTC:20261107T210000
DTSTAMP:20260425T161852
CREATED:20260116T182641Z
LAST-MODIFIED:20260116T182641Z
UID:1859-1794078000-1794085200@goofyfoottaproom.com
SUMMARY:Live Music with James Vincent Carroll
DESCRIPTION:One Man Acoustic Band playing Classic Rock and more!
URL:https://goofyfoottaproom.com/event/live-music-with-james-vincent-carroll-7/
LOCATION:Goofy Foot Taproom\, 2762 NC 68\, High Point\, NC\, 27265
ATTACH;FMTTYPE=image/webp:https://goofyfoottaproom.com/wp-content/uploads/2026/01/jamesvincentcarroll.webp
END:VEVENT
BEGIN:VEVENT
DTSTART;TZID=UTC:20261114T190000
DTEND;TZID=UTC:20261114T210000
DTSTAMP:20260425T161852
CREATED:20260116T183912Z
LAST-MODIFIED:20260116T183912Z
UID:1867-1794682800-1794690000@goofyfoottaproom.com
SUMMARY:Live Music with Benji and Pete from Turpentine Shine
DESCRIPTION:Our friends Benji and Pete will be playing some tunes for us! \nTurpentine Shine is a string band based in the Piedmont of NC with an inspiring collection of thoughtful original songs ranging in style from Country and Bluegrass to the Singer-Songwriter appeal of artists like John Prine and Gordon Lightfoot. Throw into the mix some jammy bluegrass instrumental chops coupled with competent\, earnest drums and vocals and you will begin to have a grasp of what Turpentine Shine sounds like.
URL:https://goofyfoottaproom.com/event/live-music-with-benji-and-pete-from-turpentine-shine-4/
LOCATION:Goofy Foot Taproom\, 2762 NC 68\, High Point\, NC\, 27265
ATTACH;FMTTYPE=image/jpeg:https://goofyfoottaproom.com/wp-content/uploads/2024/12/Benji.jpg
END:VEVENT
BEGIN:VEVENT
DTSTART;TZID=UTC:20261205T190000
DTEND;TZID=UTC:20261205T210000
DTSTAMP:20260425T161852
CREATED:20260116T181944Z
LAST-MODIFIED:20260116T181944Z
UID:1848-1796497200-1796504400@goofyfoottaproom.com
SUMMARY:Live Music with Beth Turner
DESCRIPTION:Musician\, traveling soul .
URL:https://goofyfoottaproom.com/event/live-music-with-beth-turner-4/
LOCATION:Goofy Foot Taproom\, 2762 NC 68\, High Point\, NC\, 27265
ATTACH;FMTTYPE=image/jpeg:https://goofyfoottaproom.com/wp-content/uploads/2026/01/bethturner.jpg
END:VEVENT
BEGIN:VEVENT
DTSTART;TZID=UTC:20261212T190000
DTEND;TZID=UTC:20261212T210000
DTSTAMP:20260425T161852
CREATED:20260116T175625Z
LAST-MODIFIED:20260116T175625Z
UID:1838-1797102000-1797109200@goofyfoottaproom.com
SUMMARY:Live Music with Evan Blackerby
DESCRIPTION:Evan Blackerby is a singer-songwriter who synthesizes his Southern roots and worldlyinfluences into music that is equally soulful\, saucy\, and unflinchingly honest. Evan’s songs oftendeal with moving – be it moving through memories of days gone by\, or moving off into theunknown to chase answers and opportunity.
URL:https://goofyfoottaproom.com/event/live-music-with-evan-blackerby-5/
LOCATION:Goofy Foot Taproom\, 2762 NC 68\, High Point\, NC\, 27265
ATTACH;FMTTYPE=image/jpeg:https://goofyfoottaproom.com/wp-content/uploads/2026/01/evanblackerby2.jpg
END:VEVENT
END:VCALENDAR