BEGIN:VCALENDAR
VERSION:2.0
PRODID:-// - ECPv6.15.20//NONSGML v1.0//EN
CALSCALE:GREGORIAN
METHOD:PUBLISH
X-ORIGINAL-URL:https://goofyfoottaproom.com
X-WR-CALDESC:Events for 
REFRESH-INTERVAL;VALUE=DURATION:PT1H
X-Robots-Tag:noindex
X-PUBLISHED-TTL:PT1H
BEGIN:VTIMEZONE
TZID:UTC
BEGIN:STANDARD
TZOFFSETFROM:+0000
TZOFFSETTO:+0000
TZNAME:UTC
DTSTART:20240101T000000
END:STANDARD
END:VTIMEZONE
BEGIN:VEVENT
DTSTART;TZID=UTC:20260418T190000
DTEND;TZID=UTC:20260418T210000
DTSTAMP:20260425T161847
CREATED:20260116T182314Z
LAST-MODIFIED:20260116T182314Z
UID:1853-1776538800-1776546000@goofyfoottaproom.com
SUMMARY:Live Music with James Vincent Carroll
DESCRIPTION:One Man Acoustic Band playing Classic Rock and more!
URL:https://goofyfoottaproom.com/event/live-music-with-james-vincent-carroll-4/
LOCATION:Goofy Foot Taproom\, 2762 NC 68\, High Point\, NC\, 27265
ATTACH;FMTTYPE=image/webp:https://goofyfoottaproom.com/wp-content/uploads/2026/01/jamesvincentcarroll.webp
END:VEVENT
BEGIN:VEVENT
DTSTART;TZID=UTC:20260411T190000
DTEND;TZID=UTC:20260411T210000
DTSTAMP:20260425T161847
CREATED:20260116T181748Z
LAST-MODIFIED:20260116T181748Z
UID:1844-1775934000-1775941200@goofyfoottaproom.com
SUMMARY:Live Music with Beth Turner
DESCRIPTION:Musician\, traveling soul .
URL:https://goofyfoottaproom.com/event/live-music-with-beth-turner-2/
LOCATION:Goofy Foot Taproom\, 2762 NC 68\, High Point\, NC\, 27265
ATTACH;FMTTYPE=image/jpeg:https://goofyfoottaproom.com/wp-content/uploads/2026/01/bethturner.jpg
END:VEVENT
BEGIN:VEVENT
DTSTART;TZID=UTC:20260404T190000
DTEND;TZID=UTC:20260404T210000
DTSTAMP:20260425T161847
CREATED:20260116T174214Z
LAST-MODIFIED:20260116T174214Z
UID:1834-1775329200-1775336400@goofyfoottaproom.com
SUMMARY:Live Music with Evan Blackerby
DESCRIPTION:Evan Blackerby is a singer-songwriter who synthesizes his Southern roots and worldlyinfluences into music that is equally soulful\, saucy\, and unflinchingly honest. Evan’s songs oftendeal with moving – be it moving through memories of days gone by\, or moving off into theunknown to chase answers and opportunity.
URL:https://goofyfoottaproom.com/event/live-music-with-evan-blackerby-3/
LOCATION:Goofy Foot Taproom\, 2762 NC 68\, High Point\, NC\, 27265
ATTACH;FMTTYPE=image/jpeg:https://goofyfoottaproom.com/wp-content/uploads/2026/01/evanblackerby2.jpg
END:VEVENT
BEGIN:VEVENT
DTSTART;TZID=UTC:20260328T190000
DTEND;TZID=UTC:20260328T210000
DTSTAMP:20260425T161847
CREATED:20260116T173348Z
LAST-MODIFIED:20260116T173348Z
UID:1823-1774724400-1774731600@goofyfoottaproom.com
SUMMARY:Live Music with Anna Mertson
DESCRIPTION:Meshing musical roots is the name of the game for Anna Mertson. Blending together the notes\, rhythms and topics of her upbringing is what creates her different kind of style. “What is your genre?” is a difficult question to answer. It’s a melodic blend of country\, folk\, blues and feeling with lyrics surrounding a myriad of subjects from folk traditions to compelling thoughts.
URL:https://goofyfoottaproom.com/event/live-music-with-anna-mertson-3/
LOCATION:Goofy Foot Taproom\, 2762 NC 68\, High Point\, NC\, 27265
ATTACH;FMTTYPE=image/png:https://goofyfoottaproom.com/wp-content/uploads/2024/12/Anna2.png
END:VEVENT
BEGIN:VEVENT
DTSTART;TZID=UTC:20260321T190000
DTEND;TZID=UTC:20260321T210000
DTSTAMP:20260425T161847
CREATED:20260116T184728Z
LAST-MODIFIED:20260116T184728Z
UID:1869-1774119600-1774126800@goofyfoottaproom.com
SUMMARY:Live Music with Michael Chaney
DESCRIPTION:Michael is a local musician who we love having in the taproom!  Playing some original tunes along with great covers with his own flavor\, he is a must see in the triad.
URL:https://goofyfoottaproom.com/event/live-music-with-michael-chaney-8/
LOCATION:Goofy Foot Taproom\, 2762 NC 68\, High Point\, NC\, 27265
ATTACH;FMTTYPE=image/png:https://goofyfoottaproom.com/wp-content/uploads/2024/12/Michael.png
END:VEVENT
BEGIN:VEVENT
DTSTART;TZID=UTC:20260315T170000
DTEND;TZID=UTC:20260315T190000
DTSTAMP:20260425T161847
CREATED:20260308T181057Z
LAST-MODIFIED:20260308T181057Z
UID:1871-1773594000-1773601200@goofyfoottaproom.com
SUMMARY:Whiskey Tasting
DESCRIPTION:We are teaming up with our friends at Boulder’s Bar & Grill for a little Pre St. Patty’s Day Whiskey Tasting! We are choosing three different 1 ounce pours of whiskey to carefully pair with three delicious bites prepared for us by Boulder’s. We will also throw in a little bite-sized dessert from Sweet Dough Bakery to finish the meal! \n  \n\n$40 per ticket\nPlease let your server know to reserve a seat for you this week or email us at info@goofyfoottaproom.com for a reservation.
URL:https://goofyfoottaproom.com/event/whiskey-tasting/
LOCATION:Goofy Foot Taproom\, 2762 NC 68\, High Point\, NC\, 27265
ATTACH;FMTTYPE=image/png:https://goofyfoottaproom.com/wp-content/uploads/2026/03/Green-Modern-ST.-Patricks-Party-Flyer-1.png
END:VEVENT
BEGIN:VEVENT
DTSTART;TZID=UTC:20260307T190000
DTEND;TZID=UTC:20260307T210000
DTSTAMP:20260425T161847
CREATED:20260116T183537Z
LAST-MODIFIED:20260116T183537Z
UID:1861-1772910000-1772917200@goofyfoottaproom.com
SUMMARY:Live Music with Benji and Pete from Turpentine Shine
DESCRIPTION:Our friends Benji and Pete will be playing some tunes for us! \nTurpentine Shine is a string band based in the Piedmont of NC with an inspiring collection of thoughtful original songs ranging in style from Country and Bluegrass to the Singer-Songwriter appeal of artists like John Prine and Gordon Lightfoot. Throw into the mix some jammy bluegrass instrumental chops coupled with competent\, earnest drums and vocals and you will begin to have a grasp of what Turpentine Shine sounds like.
URL:https://goofyfoottaproom.com/event/live-music-with-benji-and-pete-from-turpentine-shine/
LOCATION:Goofy Foot Taproom\, 2762 NC 68\, High Point\, NC\, 27265
ATTACH;FMTTYPE=image/jpeg:https://goofyfoottaproom.com/wp-content/uploads/2024/12/Benji.jpg
END:VEVENT
BEGIN:VEVENT
DTSTART;TZID=UTC:20260228T190000
DTEND;TZID=UTC:20260228T210000
DTSTAMP:20260425T161847
CREATED:20260116T182203Z
LAST-MODIFIED:20260116T182203Z
UID:1850-1772305200-1772312400@goofyfoottaproom.com
SUMMARY:Live Music with James Vincent Carroll
DESCRIPTION:One Man Acoustic Band playing Classic Rock and more!
URL:https://goofyfoottaproom.com/event/live-music-with-james-vincent-carroll-3/
LOCATION:Goofy Foot Taproom\, 2762 NC 68\, High Point\, NC\, 27265
ATTACH;FMTTYPE=image/webp:https://goofyfoottaproom.com/wp-content/uploads/2026/01/jamesvincentcarroll.webp
END:VEVENT
BEGIN:VEVENT
DTSTART;TZID=UTC:20260221T190000
DTEND;TZID=UTC:20260221T210000
DTSTAMP:20260425T161847
CREATED:20260116T181533Z
LAST-MODIFIED:20260116T181533Z
UID:1840-1771700400-1771707600@goofyfoottaproom.com
SUMMARY:Live Music with Beth Turner
DESCRIPTION:Musician\, traveling soul .
URL:https://goofyfoottaproom.com/event/live-music-with-beth-turner/
LOCATION:Goofy Foot Taproom\, 2762 NC 68\, High Point\, NC\, 27265
ATTACH;FMTTYPE=image/jpeg:https://goofyfoottaproom.com/wp-content/uploads/2026/01/bethturner.jpg
END:VEVENT
BEGIN:VEVENT
DTSTART;TZID=UTC:20260207T190000
DTEND;TZID=UTC:20260207T210000
DTSTAMP:20260425T161847
CREATED:20260116T173253Z
LAST-MODIFIED:20260116T173253Z
UID:1821-1770490800-1770498000@goofyfoottaproom.com
SUMMARY:Live Music with Anna Mertson
DESCRIPTION:Meshing musical roots is the name of the game for Anna Mertson. Blending together the notes\, rhythms and topics of her upbringing is what creates her different kind of style. “What is your genre?” is a difficult question to answer. It’s a melodic blend of country\, folk\, blues and feeling with lyrics surrounding a myriad of subjects from folk traditions to compelling thoughts.
URL:https://goofyfoottaproom.com/event/live-music-with-anna-mertson-2/
LOCATION:Goofy Foot Taproom\, 2762 NC 68\, High Point\, NC\, 27265
ATTACH;FMTTYPE=image/png:https://goofyfoottaproom.com/wp-content/uploads/2024/12/Anna2.png
END:VEVENT
BEGIN:VEVENT
DTSTART;TZID=UTC:20260131T190000
DTEND;TZID=UTC:20260131T210000
DTSTAMP:20260425T161847
CREATED:20260116T174053Z
LAST-MODIFIED:20260116T174054Z
UID:1831-1769886000-1769893200@goofyfoottaproom.com
SUMMARY:Live Music with Evan Blackerby
DESCRIPTION:Evan Blackerby is a singer-songwriter who synthesizes his Southern roots and worldlyinfluences into music that is equally soulful\, saucy\, and unflinchingly honest. Evan’s songs oftendeal with moving – be it moving through memories of days gone by\, or moving off into theunknown to chase answers and opportunity.
URL:https://goofyfoottaproom.com/event/live-music-with-evan-blackerby-2/
LOCATION:Goofy Foot Taproom\, 2762 NC 68\, High Point\, NC\, 27265
ATTACH;FMTTYPE=image/jpeg:https://goofyfoottaproom.com/wp-content/uploads/2026/01/evanblackerby2.jpg
END:VEVENT
BEGIN:VEVENT
DTSTART;TZID=UTC:20251227T190000
DTEND;TZID=UTC:20251227T210000
DTSTAMP:20260425T161847
CREATED:20250421T145042Z
LAST-MODIFIED:20250421T145717Z
UID:1804-1766862000-1766869200@goofyfoottaproom.com
SUMMARY:Live Music with Anna Mertson
DESCRIPTION:Meshing musical roots is the name of the game for Anna Mertson. Blending together the notes\, rhythms and topics of her upbringing is what creates her different kind of style. “What is your genre?” is a difficult question to answer. It’s a melodic blend of country\, folk\, blues and feeling with lyrics surrounding a myriad of subjects from folk traditions to compelling thoughts.
URL:https://goofyfoottaproom.com/event/live-music-with-anna-mertson/
LOCATION:Goofy Foot Taproom\, 2762 NC 68\, High Point\, NC\, 27265
ATTACH;FMTTYPE=image/png:https://goofyfoottaproom.com/wp-content/uploads/2024/12/Anna2.png
END:VEVENT
BEGIN:VEVENT
DTSTART;TZID=UTC:20251213T190000
DTEND;TZID=UTC:20251213T210000
DTSTAMP:20260425T161847
CREATED:20250424T152003Z
LAST-MODIFIED:20250424T152003Z
UID:1810-1765652400-1765659600@goofyfoottaproom.com
SUMMARY:Live Music with James Vincent Carroll
DESCRIPTION:One Man Acoustic Band playing Classic Rock and more!
URL:https://goofyfoottaproom.com/event/live-music-with-james-vincent-carroll/
LOCATION:Goofy Foot Taproom\, 2762 NC 68\, High Point\, NC\, 27265
ATTACH;FMTTYPE=image/jpeg:https://goofyfoottaproom.com/wp-content/uploads/2025/04/jvc2.jpg
END:VEVENT
BEGIN:VEVENT
DTSTART;TZID=UTC:20251206T190000
DTEND;TZID=UTC:20251206T210000
DTSTAMP:20260425T161847
CREATED:20241229T175129Z
LAST-MODIFIED:20241229T175129Z
UID:1701-1765047600-1765054800@goofyfoottaproom.com
SUMMARY:Live Music with Michael Chaney
DESCRIPTION:Michael is a local musician who we love having in the taproom!  Playing some original tunes along with great covers with his own flavor\, he is a must see in the triad.
URL:https://goofyfoottaproom.com/event/live-music-with-michael-chaney-7/
LOCATION:Goofy Foot Taproom\, 2762 NC 68\, High Point\, NC\, 27265
ATTACH;FMTTYPE=image/png:https://goofyfoottaproom.com/wp-content/uploads/2024/12/Michael.png
END:VEVENT
BEGIN:VEVENT
DTSTART;TZID=UTC:20251115T190000
DTEND;TZID=UTC:20251115T210000
DTSTAMP:20260425T161847
CREATED:20241229T175033Z
LAST-MODIFIED:20241229T175033Z
UID:1699-1763233200-1763240400@goofyfoottaproom.com
SUMMARY:Live Music with Michael Chaney
DESCRIPTION:Michael is a local musician who we love having in the taproom!  Playing some original tunes along with great covers with his own flavor\, he is a must see in the triad.
URL:https://goofyfoottaproom.com/event/live-music-with-michael-chaney-6/
LOCATION:Goofy Foot Taproom\, 2762 NC 68\, High Point\, NC\, 27265
ATTACH;FMTTYPE=image/png:https://goofyfoottaproom.com/wp-content/uploads/2024/12/Michael.png
END:VEVENT
BEGIN:VEVENT
DTSTART;TZID=UTC:20251108T190000
DTEND;TZID=UTC:20251108T210000
DTSTAMP:20260425T161847
CREATED:20241229T173154Z
LAST-MODIFIED:20241229T173154Z
UID:1680-1762628400-1762635600@goofyfoottaproom.com
SUMMARY:Live Music with Turpentine Shine
DESCRIPTION:Our friends Benji and Pete will be playing some tunes for us! \nTurpentine Shine is a string band based in the Piedmont of NC with an inspiring collection of thoughtful original songs ranging in style from Country and Bluegrass to the Singer-Songwriter appeal of artists like John Prine and Gordon Lightfoot. Throw into the mix some jammy bluegrass instrumental chops coupled with competent\, earnest drums and vocals and you will begin to have a grasp of what Turpentine Shine sounds like.
URL:https://goofyfoottaproom.com/event/live-music-with-turpentine-shine-4/
LOCATION:Goofy Foot Taproom\, 2762 NC 68\, High Point\, NC\, 27265
ATTACH;FMTTYPE=image/jpeg:https://goofyfoottaproom.com/wp-content/uploads/2024/12/Benji.jpg
END:VEVENT
BEGIN:VEVENT
DTSTART;TZID=UTC:20251025T190000
DTEND;TZID=UTC:20251025T210000
DTSTAMP:20260425T161847
CREATED:20241229T172238Z
LAST-MODIFIED:20250421T144916Z
UID:1670-1761418800-1761426000@goofyfoottaproom.com
SUMMARY:Live Music with John Vincent Carroll
DESCRIPTION:One Man Acoustic Band playing Classic Rock and more!
URL:https://goofyfoottaproom.com/event/live-music-w-anna-mertson-4/
LOCATION:Goofy Foot Taproom\, 2762 NC 68\, High Point\, NC\, 27265
ATTACH;FMTTYPE=image/jpeg:https://goofyfoottaproom.com/wp-content/uploads/2024/12/JCV.jpg
END:VEVENT
BEGIN:VEVENT
DTSTART;TZID=UTC:20251018T190000
DTEND;TZID=UTC:20251018T210000
DTSTAMP:20260425T161847
CREATED:20241229T174933Z
LAST-MODIFIED:20241229T174933Z
UID:1697-1760814000-1760821200@goofyfoottaproom.com
SUMMARY:Live Music with Michael Chaney
DESCRIPTION:Michael is a local musician who we love having in the taproom!  Playing some original tunes along with great covers with his own flavor\, he is a must see in the triad.
URL:https://goofyfoottaproom.com/event/live-music-with-michael-chaney-5/
LOCATION:Goofy Foot Taproom\, 2762 NC 68\, High Point\, NC\, 27265
ATTACH;FMTTYPE=image/png:https://goofyfoottaproom.com/wp-content/uploads/2024/12/Michael.png
END:VEVENT
BEGIN:VEVENT
DTSTART;TZID=UTC:20251011T140000
DTEND;TZID=UTC:20251011T210000
DTSTAMP:20260425T161847
CREATED:20250902T135323Z
LAST-MODIFIED:20250902T135400Z
UID:1816-1760191200-1760216400@goofyfoottaproom.com
SUMMARY:Goofy Foot Fall Festival
DESCRIPTION:It’s that time of year again!!!!Join us SATURDAY October 11th from 2pm-9pm for our Fall Festival to celebrate the release of our Pumpkin Ale and our Get Barreled Bourbon Barrel Aged Stout Volume 3!!!\nCome hang out in the back parking lot for cold beer\, food tents and live music from our friends HWY 42!!\nFeel free to bring a lawn chair to enjoy outside drinks and live music.Cheers!!!
URL:https://goofyfoottaproom.com/event/goofy-foot-fall-festival-2/
LOCATION:Goofy Foot Taproom\, 2762 NC 68\, High Point\, NC\, 27265
ATTACH;FMTTYPE=image/png:https://goofyfoottaproom.com/wp-content/uploads/2025/09/2025-Fall-Festival.png
END:VEVENT
BEGIN:VEVENT
DTSTART;TZID=UTC:20250927T190000
DTEND;TZID=UTC:20250927T210000
DTSTAMP:20260425T161847
CREATED:20241229T173049Z
LAST-MODIFIED:20241229T173049Z
UID:1678-1758999600-1759006800@goofyfoottaproom.com
SUMMARY:Live Music with Turpentine Shine
DESCRIPTION:Our friends Benji and Pete will be playing some tunes for us! \nTurpentine Shine is a string band based in the Piedmont of NC with an inspiring collection of thoughtful original songs ranging in style from Country and Bluegrass to the Singer-Songwriter appeal of artists like John Prine and Gordon Lightfoot. Throw into the mix some jammy bluegrass instrumental chops coupled with competent\, earnest drums and vocals and you will begin to have a grasp of what Turpentine Shine sounds like.
URL:https://goofyfoottaproom.com/event/live-music-with-turpentine-shine-3/
LOCATION:Goofy Foot Taproom\, 2762 NC 68\, High Point\, NC\, 27265
ATTACH;FMTTYPE=image/jpeg:https://goofyfoottaproom.com/wp-content/uploads/2024/12/Benji.jpg
END:VEVENT
BEGIN:VEVENT
DTSTART;TZID=UTC:20250830T190000
DTEND;TZID=UTC:20250830T210000
DTSTAMP:20260425T161847
CREATED:20241229T180552Z
LAST-MODIFIED:20241231T185637Z
UID:1710-1756580400-1756587600@goofyfoottaproom.com
SUMMARY:Live Music with Connor Moran
DESCRIPTION:
URL:https://goofyfoottaproom.com/event/live-music-with-connor-moran-2/
LOCATION:Goofy Foot Taproom\, 2762 NC 68\, High Point\, NC\, 27265
ATTACH;FMTTYPE=image/png:https://goofyfoottaproom.com/wp-content/uploads/2024/12/Connor.png
END:VEVENT
BEGIN:VEVENT
DTSTART;TZID=UTC:20250823T190000
DTEND;TZID=UTC:20250823T210000
DTSTAMP:20260425T161847
CREATED:20241229T172111Z
LAST-MODIFIED:20241229T173303Z
UID:1668-1755975600-1755982800@goofyfoottaproom.com
SUMMARY:Live Music with Anna Mertson
DESCRIPTION:Meshing musical roots is the name of the game for Anna Mertson. Blending together the notes\, rhythms and topics of her upbringing is what creates her different kind of style. “What is your genre?” is a difficult question to answer. It’s a melodic blend of country\, folk\, blues and feeling with lyrics surrounding a myriad of subjects from folk traditions to compelling thoughts.
URL:https://goofyfoottaproom.com/event/live-music-w-anna-mertson-3/
LOCATION:Goofy Foot Taproom\, 2762 NC 68\, High Point\, NC\, 27265
ATTACH;FMTTYPE=image/png:https://goofyfoottaproom.com/wp-content/uploads/2024/12/Anna2.png
END:VEVENT
BEGIN:VEVENT
DTSTART;TZID=UTC:20250809T190000
DTEND;TZID=UTC:20250809T210000
DTSTAMP:20260425T161847
CREATED:20250424T152104Z
LAST-MODIFIED:20250424T152104Z
UID:1813-1754766000-1754773200@goofyfoottaproom.com
SUMMARY:Live Music with James Vincent Carroll
DESCRIPTION:One Man Acoustic Band playing Classic Rock and more!
URL:https://goofyfoottaproom.com/event/live-music-with-james-vincent-carroll-2/
LOCATION:Goofy Foot Taproom\, 2762 NC 68\, High Point\, NC\, 27265
ATTACH;FMTTYPE=image/jpeg:https://goofyfoottaproom.com/wp-content/uploads/2025/04/jvc3.jpg
END:VEVENT
BEGIN:VEVENT
DTSTART;TZID=UTC:20250719T190000
DTEND;TZID=UTC:20250719T210000
DTSTAMP:20260425T161847
CREATED:20241229T174809Z
LAST-MODIFIED:20241229T174809Z
UID:1695-1752951600-1752958800@goofyfoottaproom.com
SUMMARY:Live Music with Michael Chaney
DESCRIPTION:Michael is a local musician who we love having in the taproom!  Playing some original tunes along with great covers with his own flavor\, he is a must see in the triad.
URL:https://goofyfoottaproom.com/event/live-music-with-michael-chaney-4/
LOCATION:Goofy Foot Taproom\, 2762 NC 68\, High Point\, NC\, 27265
ATTACH;FMTTYPE=image/png:https://goofyfoottaproom.com/wp-content/uploads/2024/12/Michael.png
END:VEVENT
BEGIN:VEVENT
DTSTART;TZID=UTC:20250712T190000
DTEND;TZID=UTC:20250712T210000
DTSTAMP:20260425T161847
CREATED:20241229T180223Z
LAST-MODIFIED:20241229T180223Z
UID:1708-1752346800-1752354000@goofyfoottaproom.com
SUMMARY:Live Music with Dave Moran
DESCRIPTION:Dave Moran is a local musician with a knack for reviving the nostalgic tunes of the 90s and 2000s.  With his soulful voice and acoustic guitar\, Dave transports audiences back to an era of flannel shirts and flip phones\, infusing each performance with a fresh\, heartfelt energy.  Inspired by the likes of Train\, the Gin Blossoms\, Bryan Adams and more\, Dave’s shows are a delightful trip down memory lane.  With his soulful renditions and infectious energy\, he ensures that every audience member leaves with a smile on their face and a tune stuck in their head.
URL:https://goofyfoottaproom.com/event/live-music-with-dave-moran-2/
LOCATION:Goofy Foot Taproom\, 2762 NC 68\, High Point\, NC\, 27265
ATTACH;FMTTYPE=image/jpeg:https://goofyfoottaproom.com/wp-content/uploads/2024/12/daveMoran.jpg
END:VEVENT
BEGIN:VEVENT
DTSTART;TZID=UTC:20250628T190000
DTEND;TZID=UTC:20250628T210000
DTSTAMP:20260425T161847
CREATED:20241229T172946Z
LAST-MODIFIED:20241229T172946Z
UID:1676-1751137200-1751144400@goofyfoottaproom.com
SUMMARY:Live Music with Turpentine Shine
DESCRIPTION:Our friends Benji and Pete will be playing some tunes for us! \nTurpentine Shine is a string band based in the Piedmont of NC with an inspiring collection of thoughtful original songs ranging in style from Country and Bluegrass to the Singer-Songwriter appeal of artists like John Prine and Gordon Lightfoot. Throw into the mix some jammy bluegrass instrumental chops coupled with competent\, earnest drums and vocals and you will begin to have a grasp of what Turpentine Shine sounds like.
URL:https://goofyfoottaproom.com/event/live-music-with-turpentine-shine-2/
LOCATION:Goofy Foot Taproom\, 2762 NC 68\, High Point\, NC\, 27265
ATTACH;FMTTYPE=image/jpeg:https://goofyfoottaproom.com/wp-content/uploads/2024/12/Benji.jpg
END:VEVENT
BEGIN:VEVENT
DTSTART;TZID=UTC:20250621T190000
DTEND;TZID=UTC:20250621T210000
DTSTAMP:20260425T161847
CREATED:20250421T145610Z
LAST-MODIFIED:20250421T145610Z
UID:1806-1750532400-1750539600@goofyfoottaproom.com
SUMMARY:Live Music with Evan Blackerby
DESCRIPTION:Alt-Bluesy Americana\, Folkish-Rock-esque Songwriter
URL:https://goofyfoottaproom.com/event/live-music-with-evan-blackerby/
LOCATION:Goofy Foot Taproom\, 2762 NC 68\, High Point\, NC\, 27265
ATTACH;FMTTYPE=image/png:https://goofyfoottaproom.com/wp-content/uploads/2025/04/EvanBlackerby.png
END:VEVENT
BEGIN:VEVENT
DTSTART;TZID=UTC:20250524T190000
DTEND;TZID=UTC:20250524T210000
DTSTAMP:20260425T161847
CREATED:20241229T180124Z
LAST-MODIFIED:20241229T180124Z
UID:1705-1748113200-1748120400@goofyfoottaproom.com
SUMMARY:Live Music with Dave Moran
DESCRIPTION:Dave Moran is a local musician with a knack for reviving the nostalgic tunes of the 90s and 2000s.  With his soulful voice and acoustic guitar\, Dave transports audiences back to an era of flannel shirts and flip phones\, infusing each performance with a fresh\, heartfelt energy.  Inspired by the likes of Train\, the Gin Blossoms\, Bryan Adams and more\, Dave’s shows are a delightful trip down memory lane.  With his soulful renditions and infectious energy\, he ensures that every audience member leaves with a smile on their face and a tune stuck in their head.
URL:https://goofyfoottaproom.com/event/live-music-with-dave-moran/
LOCATION:Goofy Foot Taproom\, 2762 NC 68\, High Point\, NC\, 27265
ATTACH;FMTTYPE=image/jpeg:https://goofyfoottaproom.com/wp-content/uploads/2024/12/daveMoran.jpg
END:VEVENT
BEGIN:VEVENT
DTSTART;TZID=UTC:20250503T140000
DTEND;TZID=UTC:20250503T210000
DTSTAMP:20260425T161847
CREATED:20250320T165351Z
LAST-MODIFIED:20250320T165351Z
UID:1799-1746280800-1746306000@goofyfoottaproom.com
SUMMARY:Goofy Foot Spring Festival
DESCRIPTION:Join us for our Annual Spring Festival!!  We will be blocking off the back parking lot and having live music\, food tents and the yearly release of our Key Lime Gose!!! \nBring your lawn chairs\, blankets\, friends and family and enjoy a great day with a great beer community!!
URL:https://goofyfoottaproom.com/event/goofy-foot-spring-festival/
LOCATION:Goofy Foot Taproom\, 2762 NC 68\, High Point\, NC\, 27265
ATTACH;FMTTYPE=image/png:https://goofyfoottaproom.com/wp-content/uploads/2025/03/Spring-Festival-2025.png
END:VEVENT
BEGIN:VEVENT
DTSTART;TZID=UTC:20250426T190000
DTEND;TZID=UTC:20250426T210000
DTSTAMP:20260425T161847
CREATED:20241229T174708Z
LAST-MODIFIED:20241229T174708Z
UID:1693-1745694000-1745701200@goofyfoottaproom.com
SUMMARY:Live Music with Michael Chaney
DESCRIPTION:Michael is a local musician who we love having in the taproom!  Playing some original tunes along with great covers with his own flavor\, he is a must see in the triad.
URL:https://goofyfoottaproom.com/event/live-music-with-michael-chaney-3/
LOCATION:Goofy Foot Taproom\, 2762 NC 68\, High Point\, NC\, 27265
ATTACH;FMTTYPE=image/png:https://goofyfoottaproom.com/wp-content/uploads/2024/12/Michael.png
END:VEVENT
END:VCALENDAR